BEGIN:VCALENDAR
VERSION:2.0
PRODID:-//Big Blue Adventure - ECPv6.15.20//NONSGML v1.0//EN
CALSCALE:GREGORIAN
METHOD:PUBLISH
X-WR-CALNAME:Big Blue Adventure
X-ORIGINAL-URL:https://bigblueadventure.com
X-WR-CALDESC:Events for Big Blue Adventure
REFRESH-INTERVAL;VALUE=DURATION:PT1H
X-Robots-Tag:noindex
X-PUBLISHED-TTL:PT1H
BEGIN:VTIMEZONE
TZID:America/Los_Angeles
BEGIN:DAYLIGHT
TZOFFSETFROM:-0800
TZOFFSETTO:-0700
TZNAME:PDT
DTSTART:20220313T100000
END:DAYLIGHT
BEGIN:STANDARD
TZOFFSETFROM:-0700
TZOFFSETTO:-0800
TZNAME:PST
DTSTART:20221106T090000
END:STANDARD
BEGIN:DAYLIGHT
TZOFFSETFROM:-0800
TZOFFSETTO:-0700
TZNAME:PDT
DTSTART:20230312T100000
END:DAYLIGHT
BEGIN:STANDARD
TZOFFSETFROM:-0700
TZOFFSETTO:-0800
TZNAME:PST
DTSTART:20231105T090000
END:STANDARD
BEGIN:DAYLIGHT
TZOFFSETFROM:-0800
TZOFFSETTO:-0700
TZNAME:PDT
DTSTART:20240310T100000
END:DAYLIGHT
BEGIN:STANDARD
TZOFFSETFROM:-0700
TZOFFSETTO:-0800
TZNAME:PST
DTSTART:20241103T090000
END:STANDARD
BEGIN:DAYLIGHT
TZOFFSETFROM:-0800
TZOFFSETTO:-0700
TZNAME:PDT
DTSTART:20250309T100000
END:DAYLIGHT
BEGIN:STANDARD
TZOFFSETFROM:-0700
TZOFFSETTO:-0800
TZNAME:PST
DTSTART:20251102T090000
END:STANDARD
BEGIN:DAYLIGHT
TZOFFSETFROM:-0800
TZOFFSETTO:-0700
TZNAME:PDT
DTSTART:20260308T100000
END:DAYLIGHT
BEGIN:STANDARD
TZOFFSETFROM:-0700
TZOFFSETTO:-0800
TZNAME:PST
DTSTART:20261101T090000
END:STANDARD
BEGIN:DAYLIGHT
TZOFFSETFROM:-0800
TZOFFSETTO:-0700
TZNAME:PDT
DTSTART:20270314T100000
END:DAYLIGHT
BEGIN:STANDARD
TZOFFSETFROM:-0700
TZOFFSETTO:-0800
TZNAME:PST
DTSTART:20271107T090000
END:STANDARD
END:VTIMEZONE
BEGIN:VEVENT
DTSTART;TZID=America/Los_Angeles:20260530T080000
DTEND;TZID=America/Los_Angeles:20260530T153000
DTSTAMP:20260422T035938
CREATED:20230329T235525Z
LAST-MODIFIED:20260127T203019Z
UID:10000057-1780128000-1780155000@bigblueadventure.com
SUMMARY:Tail Wagger 5K\, 1-Miler\, in Tahoe Vista\, CA
DESCRIPTION:A dog-friendly event featuring a canine 5K and 1-mile run\, along with a canine-focused festival in Lake Tahoe!
URL:https://bigblueadventure.com/event/tail-wagger-5k/
LOCATION:North Tahoe Regional Park\, 6600 Donner Raod\, Tahoe Vista\, CA\, 96148\, United States
CATEGORIES:Running
ATTACH;FMTTYPE=image/png:https://bigblueadventure.com/wp-content/uploads/2023/03/tw200by200.png
GEO:39.2458609;-120.0503143
X-APPLE-STRUCTURED-LOCATION;VALUE=URI;X-ADDRESS=North Tahoe Regional Park 6600 Donner Raod Tahoe Vista CA 96148 United States;X-APPLE-RADIUS=500;X-TITLE=6600 Donner Raod:geo:-120.0503143,39.2458609
END:VEVENT
BEGIN:VEVENT
DTSTART;TZID=America/Los_Angeles:20260324T160552
DTEND;TZID=America/Los_Angeles:20260324T160552
DTSTAMP:20260422T035938
CREATED:20160329T201701Z
LAST-MODIFIED:20260324T230552Z
UID:10000045-1774368352-1774368352@bigblueadventure.com
SUMMARY:Tahoe Trail 100 Leadville Qualifier
DESCRIPTION:
URL:https://bigblueadventure.com/event/tahoe-trail-100-leadville-qualifier/
LOCATION:CA
CATEGORIES:Mountain Biking
END:VEVENT
BEGIN:VEVENT
DTSTART;TZID=America/Los_Angeles:20250816T080000
DTEND;TZID=America/Los_Angeles:20250816T170000
DTSTAMP:20260422T035938
CREATED:20180725T205613Z
LAST-MODIFIED:20241122T004000Z
UID:10000050-1755331200-1755363600@bigblueadventure.com
SUMMARY:Tahoe Adventure Challenge
DESCRIPTION:
URL:https://bigblueadventure.com/event/tahoe-big-blue-adventure-race/
LOCATION:CA
CATEGORIES:Adventure Racing
ATTACH;FMTTYPE=image/png:https://bigblueadventure.com/wp-content/uploads/2018/07/TAC-200.png
END:VEVENT
BEGIN:VEVENT
DTSTART;TZID=America/Los_Angeles:20250620T080000
DTEND;TZID=America/Los_Angeles:20250629T170000
DTSTAMP:20260422T035938
CREATED:20151117T173907Z
LAST-MODIFIED:20241030T211030Z
UID:10000044-1750406400-1751216400@bigblueadventure.com
SUMMARY:Adventure Sports Week
DESCRIPTION:Escape the daily grind this June 20th through the 29th in one of the world’s top outdoor playgrounds. Adventure Sports Week Tahoe was created for those who appreciate clean air\, clear water\, scenic single track\, and an elevated heart rate.
URL:https://bigblueadventure.com/event/adventure-sports-week/
LOCATION:CA
CATEGORIES:Aquabike,Aquathlon,Duathlon,Mountain Biking,Running,SUP,Swimming,Triathlon
ATTACH;FMTTYPE=image/jpeg:https://bigblueadventure.com/wp-content/uploads/2014/04/asw.jpg
END:VEVENT
BEGIN:VEVENT
DTSTART;TZID=America/Los_Angeles:20230916T150000
DTEND;TZID=America/Los_Angeles:20230916T180000
DTSTAMP:20260422T035938
CREATED:20230815T033826Z
LAST-MODIFIED:20230815T034017Z
UID:10000058-1694876400-1694887200@bigblueadventure.com
SUMMARY:Sierra Charger
DESCRIPTION:EBIKE Racing
URL:https://bigblueadventure.com/event/sierra-charger/
LOCATION:CA
CATEGORIES:Ebike Racing,Mountain Biking
ATTACH;FMTTYPE=image/png:https://bigblueadventure.com/wp-content/uploads/2023/08/sierrachargervert500.png
END:VEVENT
END:VCALENDAR