BEGIN:VCALENDAR
VERSION:2.0
PRODID:-//Big Blue Adventure - ECPv6.15.20//NONSGML v1.0//EN
CALSCALE:GREGORIAN
METHOD:PUBLISH
X-WR-CALNAME:Big Blue Adventure
X-ORIGINAL-URL:https://bigblueadventure.com
X-WR-CALDESC:Events for Big Blue Adventure
REFRESH-INTERVAL;VALUE=DURATION:PT1H
X-Robots-Tag:noindex
X-PUBLISHED-TTL:PT1H
BEGIN:VTIMEZONE
TZID:America/Los_Angeles
BEGIN:DAYLIGHT
TZOFFSETFROM:-0800
TZOFFSETTO:-0700
TZNAME:PDT
DTSTART:20250309T100000
END:DAYLIGHT
BEGIN:STANDARD
TZOFFSETFROM:-0700
TZOFFSETTO:-0800
TZNAME:PST
DTSTART:20251102T090000
END:STANDARD
BEGIN:DAYLIGHT
TZOFFSETFROM:-0800
TZOFFSETTO:-0700
TZNAME:PDT
DTSTART:20260308T100000
END:DAYLIGHT
BEGIN:STANDARD
TZOFFSETFROM:-0700
TZOFFSETTO:-0800
TZNAME:PST
DTSTART:20261101T090000
END:STANDARD
BEGIN:DAYLIGHT
TZOFFSETFROM:-0800
TZOFFSETTO:-0700
TZNAME:PDT
DTSTART:20270314T100000
END:DAYLIGHT
BEGIN:STANDARD
TZOFFSETFROM:-0700
TZOFFSETTO:-0800
TZNAME:PST
DTSTART:20271107T090000
END:STANDARD
END:VTIMEZONE
BEGIN:VEVENT
DTSTART;TZID=America/Los_Angeles:20260530T080000
DTEND;TZID=America/Los_Angeles:20260530T153000
DTSTAMP:20260419T161456
CREATED:20230329T235525Z
LAST-MODIFIED:20260127T203019Z
UID:10000057-1780128000-1780155000@bigblueadventure.com
SUMMARY:Tail Wagger 5K\, 1-Miler\, in Tahoe Vista\, CA
DESCRIPTION:A dog-friendly event featuring a canine 5K and 1-mile run\, along with a canine-focused festival in Lake Tahoe!
URL:https://bigblueadventure.com/event/tail-wagger-5k/
LOCATION:North Tahoe Regional Park\, 6600 Donner Raod\, Tahoe Vista\, CA\, 96148\, United States
CATEGORIES:Running
ATTACH;FMTTYPE=image/png:https://bigblueadventure.com/wp-content/uploads/2023/03/tw200by200.png
GEO:39.2458609;-120.0503143
X-APPLE-STRUCTURED-LOCATION;VALUE=URI;X-ADDRESS=North Tahoe Regional Park 6600 Donner Raod Tahoe Vista CA 96148 United States;X-APPLE-RADIUS=500;X-TITLE=6600 Donner Raod:geo:-120.0503143,39.2458609
END:VEVENT
BEGIN:VEVENT
DTSTART;TZID=America/Los_Angeles:20260628T070000
DTEND;TZID=America/Los_Angeles:20260628T140000
DTSTAMP:20260419T161456
CREATED:20161031T202323Z
LAST-MODIFIED:20260324T231237Z
UID:10000046-1782630000-1782655200@bigblueadventure.com
SUMMARY:Burton Creek Trail Run 6K 12K Half Marathon
DESCRIPTION:
URL:https://bigblueadventure.com/event/burton-creek-trail-run-2/
LOCATION:Highlands Community Center\, 935 Country Club Drive\, Tahoe City\, CA\, 96145\, United States
CATEGORIES:Running,Trail Running
ATTACH;FMTTYPE=image/png:https://bigblueadventure.com/wp-content/uploads/2016/10/BCTR-calendar-20.png
GEO:39.198037;-120.105348
X-APPLE-STRUCTURED-LOCATION;VALUE=URI;X-ADDRESS=Highlands Community Center 935 Country Club Drive Tahoe City CA 96145 United States;X-APPLE-RADIUS=500;X-TITLE=935 Country Club Drive:geo:-120.105348,39.198037
END:VEVENT
BEGIN:VEVENT
DTSTART;TZID=America/Los_Angeles:20260704T070000
DTEND;TZID=America/Los_Angeles:20260704T123000
DTSTAMP:20260419T161456
CREATED:20141031T165120Z
LAST-MODIFIED:20260402T191009Z
UID:10000032-1783148400-1783168200@bigblueadventure.com
SUMMARY:Run To The Beach
DESCRIPTION:
URL:https://bigblueadventure.com/event/run-to-the-beach/
LOCATION:CA
CATEGORIES:Road Running,Running,Trail Running
ATTACH;FMTTYPE=image/jpeg:https://bigblueadventure.com/wp-content/uploads/2014/10/BRTTBcalendar.jpg
END:VEVENT
END:VCALENDAR